BEGIN:VCALENDAR
VERSION:2.0
PRODID:-//RE/MAX Commercial Resources - ECPv6.15.17.1//NONSGML v1.0//EN
CALSCALE:GREGORIAN
METHOD:PUBLISH
X-WR-CALNAME:RE/MAX Commercial Resources
X-ORIGINAL-URL:https://resources.remaxcommercial.com
X-WR-CALDESC:Events for RE/MAX Commercial Resources
REFRESH-INTERVAL;VALUE=DURATION:PT1H
X-Robots-Tag:noindex
X-PUBLISHED-TTL:PT1H
BEGIN:VTIMEZONE
TZID:America/Denver
BEGIN:DAYLIGHT
TZOFFSETFROM:-0700
TZOFFSETTO:-0600
TZNAME:MDT
DTSTART:20250309T090000
END:DAYLIGHT
BEGIN:STANDARD
TZOFFSETFROM:-0600
TZOFFSETTO:-0700
TZNAME:MST
DTSTART:20251102T080000
END:STANDARD
BEGIN:DAYLIGHT
TZOFFSETFROM:-0700
TZOFFSETTO:-0600
TZNAME:MDT
DTSTART:20260308T090000
END:DAYLIGHT
BEGIN:STANDARD
TZOFFSETFROM:-0600
TZOFFSETTO:-0700
TZNAME:MST
DTSTART:20261101T080000
END:STANDARD
BEGIN:DAYLIGHT
TZOFFSETFROM:-0700
TZOFFSETTO:-0600
TZNAME:MDT
DTSTART:20270314T090000
END:DAYLIGHT
BEGIN:STANDARD
TZOFFSETFROM:-0600
TZOFFSETTO:-0700
TZNAME:MST
DTSTART:20271107T080000
END:STANDARD
END:VTIMEZONE
BEGIN:VTIMEZONE
TZID:America/Toronto
BEGIN:DAYLIGHT
TZOFFSETFROM:-0500
TZOFFSETTO:-0400
TZNAME:EDT
DTSTART:20250309T070000
END:DAYLIGHT
BEGIN:STANDARD
TZOFFSETFROM:-0400
TZOFFSETTO:-0500
TZNAME:EST
DTSTART:20251102T060000
END:STANDARD
BEGIN:DAYLIGHT
TZOFFSETFROM:-0500
TZOFFSETTO:-0400
TZNAME:EDT
DTSTART:20260308T070000
END:DAYLIGHT
BEGIN:STANDARD
TZOFFSETFROM:-0400
TZOFFSETTO:-0500
TZNAME:EST
DTSTART:20261101T060000
END:STANDARD
BEGIN:DAYLIGHT
TZOFFSETFROM:-0500
TZOFFSETTO:-0400
TZNAME:EDT
DTSTART:20270314T070000
END:DAYLIGHT
BEGIN:STANDARD
TZOFFSETFROM:-0400
TZOFFSETTO:-0500
TZNAME:EST
DTSTART:20271107T060000
END:STANDARD
END:VTIMEZONE
BEGIN:VEVENT
DTSTART;VALUE=DATE:20260419
DTEND;VALUE=DATE:20260424
DTSTAMP:20260423T070601
CREATED:20250305T235105Z
LAST-MODIFIED:20250305T235105Z
UID:10000329-1776556800-1776988799@resources.remaxcommercial.com
SUMMARY:CCIM Spring Forum 2026
DESCRIPTION:Save the Date for CCIM’s 2026 Spring Forum!\nApril 19 – 23\, 2026 \nPhiladelphia | Loews Hotel Philadelphia \nLearn More
URL:https://resources.remaxcommercial.com/event/ccim-spring-forum-2026/
CATEGORIES:Broker/Owner,CCIM,Conference,Networking,Training
ATTACH;FMTTYPE=image/png:https://res.cloudinary.com/remax-prod/images/f_auto,q_auto/v1757516898/commercial-resources-prod/CCIMLOGOHORIZONTALRGB/CCIMLOGOHORIZONTALRGB.png?_i=AA
END:VEVENT
BEGIN:VEVENT
DTSTART;VALUE=DATE:20260422
DTEND;VALUE=DATE:20260425
DTSTAMP:20260423T070601
CREATED:20250723T193728Z
LAST-MODIFIED:20260420T182815Z
UID:10000346-1776816000-1777075199@resources.remaxcommercial.com
SUMMARY:2026 REMAX Global Commercial Symposium
DESCRIPTION:  \n \nThe 2026 REMAX Global Commercial Symposium is here! \nHyatt Regency Seattle \nApril 22-24\, 2026 \nSeattle\, WA \n 
URL:https://resources.remaxcommercial.com/event/2026-global-commercial-symposium/
CATEGORIES:Conference,Land,Multifamily,Networking,Office,Retail,Training
ATTACH;FMTTYPE=image/jpeg:https://res.cloudinary.com/remax-prod/images/f_auto,q_auto/v1757516675/commercial-resources-prod/25_495-CML-Symposium-STD-PPT-jm-2-3/25_495-CML-Symposium-STD-PPT-jm-2-3.jpg?_i=AA
END:VEVENT
END:VCALENDAR